BEGIN:VCALENDAR
VERSION:2.0
PRODID:-//eventon.com NONSGML v1.0//EN
BEGIN:VEVENT
UID:69e71a38178d3
DTSTAMP:20260421T083328
DTSTART:20161029T151500Z
DTEND:20161028T220000Z
TZID:Europe/Zurich
LOCATION:Patinoire d&#039;Erguel 
SUMMARY:HC Corgémont – HC Courrendlin
DESCRIPTION: HC Corgémont – HC Courrendlin\nhttps://www.hccorgemont.ch/events/hc-corgemont-hc-courrendlin/
URL:https://www.hccorgemont.ch/events/hc-corgemont-hc-courrendlin/
END:VEVENT
END:VCALENDAR